BEGIN:VCALENDAR
VERSION:2.0
PRODID:-//LFG//NONSGML kigkonsult.se iCalcreator 2.30.10//
CALSCALE:GREGORIAN
METHOD:PUBLISH
UID:a60ad081-ab78-46a2-9fbe-ea04e6026f8a
X-WR-CALNAME:iCagenda
X-WR-CALDESC:Event Management Extension for Joomla!
X-WR-RELCALID:3E26604A-50F4-4449-8B3E-E4F4932D05B5
X-WR-TIMEZONE:Europe/Zurich
BEGIN:VTIMEZONE
TZID:Europe/Zurich
BEGIN:STANDARD
TZNAME:CET
DTSTART:20261025T030000
TZOFFSETFROM:+0200
TZOFFSETTO:+0100
RDATE:20271031T030000
END:STANDARD
BEGIN:DAYLIGHT
TZNAME:CEST
DTSTART:20260329T020000
TZOFFSETFROM:+0100
TZOFFSETTO:+0200
RDATE:20270328T020000
RDATE:20280326T020000
END:DAYLIGHT
END:VTIMEZONE
BEGIN:VEVENT
UID:19fb2273-0dc5-46c8-8a85-b7840f427c9e
DTSTAMP:20260421T170216Z
CATEGORIES:Cliquen Event
CLASS:PUBLIC
DESCRIPTION;ALTREP="CID:<FFFF__=0ABBE548DFE235B58f9e8a93d@coffeebean.com>":
 Der Pflotschiball steht für eine volle Halle\, mehrere hundert fasnachtsbe
 geisterte Gäste und eine grossartige Stimmung. Zwischen den Auftritten sor
 gt DJ Tom-S für Party (https://www.dj-tom-s.ch)\, während 7–9 Guggenmusike
 n die Ofenhalle im Laufe des Abends zum Beben bringen.
DTSTART:20270123T190000Z
DTEND:20270124T020000Z
GEO:00;0
LOCATION:Porzi-Areal Ofenhalle
ORGANIZER;CN=:vfb@pflotschdaeppeler.ch
SEQUENCE:1
SUMMARY:Vorfasnachtsball: Pflotschi's Wild West Party 2027
TRANSP:OPAQUE
URL:https://wl49www2.webland.ch/icagenda/145-vorfasnachtsball-pflotschis-wi
 ld-west-party-2027
END:VEVENT
END:VCALENDAR
