BEGIN:VCALENDAR
VERSION:2.0
PRODID:-//LFG//NONSGML kigkonsult.se iCalcreator 2.30.10//
CALSCALE:GREGORIAN
METHOD:PUBLISH
UID:fc05f147-3abf-4b09-ae6f-205f320c85a9
X-WR-CALNAME:iCagenda
X-WR-CALDESC:Event Management Extension for Joomla!
X-WR-RELCALID:3E26604A-50F4-4449-8B3E-E4F4932D05B5
X-WR-TIMEZONE:Europe/Zurich
BEGIN:VTIMEZONE
TZID:Europe/Zurich
BEGIN:STANDARD
TZNAME:CET
DTSTART:20251026T030000
TZOFFSETFROM:+0200
TZOFFSETTO:+0100
RDATE:20261025T030000
RDATE:20271031T030000
END:STANDARD
BEGIN:DAYLIGHT
TZNAME:CEST
DTSTART:20260329T020000
TZOFFSETFROM:+0100
TZOFFSETTO:+0200
RDATE:20270328T020000
END:DAYLIGHT
END:VTIMEZONE
BEGIN:VEVENT
UID:b323294f-7deb-44e9-896f-4350cb0a7cd5
DTSTAMP:20260421T165900Z
CATEGORIES:Cliquen Event
CLASS:PUBLIC
DESCRIPTION:
DTSTART:20260606T082000Z
DTEND:20260606T220000Z
GEO:00;0
LOCATION:Langenthal
ORGANIZER;CN=:some.akkordwuerger@gmail.com
SEQUENCE:1
SUMMARY:4. Würger Bier&Wein-Wanderung
TRANSP:OPAQUE
URL:https://wl49www2.webland.ch/icagenda/138-4-wuerger-bier-wein-wanderung
END:VEVENT
END:VCALENDAR
